Workbook

Sheet Enquiries
A1: Received (date and time) | B1: Name | C1: Phone | D1: Email | E1: Source | F1: Enquiry | G1: Score (0-100) | H1: Band | I1: Owner | J1: Reply by | K1: Status | L1: Next action / notes
A2: 46307.385 | B2: Sample: Priya Nair | C2: 98450 00001 | D2: priya@example.com | E2: Website form | F2: Quote for 8 users | G2: 82 | H2: =IF(G2="","",IF(G2>=Lists!$B$2,Lists!$A$2,IF(G2>=Lists!$B$3,Lists!$A$3,Lists!$A$4))) | I2: Asha | J2: =IF(OR(A2="",G2=""),"",A2+IF(G2>=Lists!$B$2,Lists!$C$2,IF(G2>=Lists!$B$3,Lists!$C$3,Lists!$C$4))/24) | K2: New | L2: Call before noon
A3: 46307.486 | B3: Sample: Karan Shah | C3: 98450 00002 | D3: karan@example.com | E3: Referral | F3: Demo for two branches | G3: 55 | H3: =IF(G3="","",IF(G3>=Lists!$B$2,Lists!$A$2,IF(G3>=Lists!$B$3,Lists!$A$3,Lists!$A$4))) | I3: Ravi | J3: =IF(OR(A3="",G3=""),"",A3+IF(G3>=Lists!$B$2,Lists!$C$2,IF(G3>=Lists!$B$3,Lists!$C$3,Lists!$C$4))/24) | K3: Contacted | L3: Sent pricing, call Thursday
A4: 46307.753 | B4: Sample: Dev Patel | C4: 98450 00003 | D4: dev@example.com | E4: Website form | F4: Just browsing | G4: 20 | H4: =IF(G4="","",IF(G4>=Lists!$B$2,Lists!$A$2,IF(G4>=Lists!$B$3,Lists!$A$3,Lists!$A$4))) | J4: =IF(OR(A4="",G4=""),"",A4+IF(G4>=Lists!$B$2,Lists!$C$2,IF(G4>=Lists!$B$3,Lists!$C$3,Lists!$C$4))/24) | K4: New
A5: 46308.354 | B5: Sample: Neha Rao | C5: 98450 00004 | D5: neha@example.com | E5: Phone call | F5: Price for 20 users | G5: 74 | H5: =IF(G5="","",IF(G5>=Lists!$B$2,Lists!$A$2,IF(G5>=Lists!$B$3,Lists!$A$3,Lists!$A$4))) | I5: Meera | J5: =IF(OR(A5="",G5=""),"",A5+IF(G5>=Lists!$B$2,Lists!$C$2,IF(G5>=Lists!$B$3,Lists!$C$3,Lists!$C$4))/24) | K5: Qualified | L5: Proposal out
H6: =IF(G6="","",IF(G6>=Lists!$B$2,Lists!$A$2,IF(G6>=Lists!$B$3,Lists!$A$3,Lists!$A$4))) | J6: =IF(OR(A6="",G6=""),"",A6+IF(G6>=Lists!$B$2,Lists!$C$2,IF(G6>=Lists!$B$3,Lists!$C$3,Lists!$C$4))/24)
H7: =IF(G7="","",IF(G7>=Lists!$B$2,Lists!$A$2,IF(G7>=Lists!$B$3,Lists!$A$3,Lists!$A$4))) | J7: =IF(OR(A7="",G7=""),"",A7+IF(G7>=Lists!$B$2,Lists!$C$2,IF(G7>=Lists!$B$3,Lists!$C$3,Lists!$C$4))/24)
H8: =IF(G8="","",IF(G8>=Lists!$B$2,Lists!$A$2,IF(G8>=Lists!$B$3,Lists!$A$3,Lists!$A$4))) | J8: =IF(OR(A8="",G8=""),"",A8+IF(G8>=Lists!$B$2,Lists!$C$2,IF(G8>=Lists!$B$3,Lists!$C$3,Lists!$C$4))/24)
H9: =IF(G9="","",IF(G9>=Lists!$B$2,Lists!$A$2,IF(G9>=Lists!$B$3,Lists!$A$3,Lists!$A$4))) | J9: =IF(OR(A9="",G9=""),"",A9+IF(G9>=Lists!$B$2,Lists!$C$2,IF(G9>=Lists!$B$3,Lists!$C$3,Lists!$C$4))/24)
H10: =IF(G10="","",IF(G10>=Lists!$B$2,Lists!$A$2,IF(G10>=Lists!$B$3,Lists!$A$3,Lists!$A$4))) | J10: =IF(OR(A10="",G10=""),"",A10+IF(G10>=Lists!$B$2,Lists!$C$2,IF(G10>=Lists!$B$3,Lists!$C$3,Lists!$C$4))/24)
H11: =IF(G11="","",IF(G11>=Lists!$B$2,Lists!$A$2,IF(G11>=Lists!$B$3,Lists!$A$3,Lists!$A$4))) | J11: =IF(OR(A11="",G11=""),"",A11+IF(G11>=Lists!$B$2,Lists!$C$2,IF(G11>=Lists!$B$3,Lists!$C$3,Lists!$C$4))/24)
H12: =IF(G12="","",IF(G12>=Lists!$B$2,Lists!$A$2,IF(G12>=Lists!$B$3,Lists!$A$3,Lists!$A$4))) | J12: =IF(OR(A12="",G12=""),"",A12+IF(G12>=Lists!$B$2,Lists!$C$2,IF(G12>=Lists!$B$3,Lists!$C$3,Lists!$C$4))/24)
H13: =IF(G13="","",IF(G13>=Lists!$B$2,Lists!$A$2,IF(G13>=Lists!$B$3,Lists!$A$3,Lists!$A$4))) | J13: =IF(OR(A13="",G13=""),"",A13+IF(G13>=Lists!$B$2,Lists!$C$2,IF(G13>=Lists!$B$3,Lists!$C$3,Lists!$C$4))/24)
H14: =IF(G14="","",IF(G14>=Lists!$B$2,Lists!$A$2,IF(G14>=Lists!$B$3,Lists!$A$3,Lists!$A$4))) | J14: =IF(OR(A14="",G14=""),"",A14+IF(G14>=Lists!$B$2,Lists!$C$2,IF(G14>=Lists!$B$3,Lists!$C$3,Lists!$C$4))/24)
H15: =IF(G15="","",IF(G15>=Lists!$B$2,Lists!$A$2,IF(G15>=Lists!$B$3,Lists!$A$3,Lists!$A$4))) | J15: =IF(OR(A15="",G15=""),"",A15+IF(G15>=Lists!$B$2,Lists!$C$2,IF(G15>=Lists!$B$3,Lists!$C$3,Lists!$C$4))/24)
H16: =IF(G16="","",IF(G16>=Lists!$B$2,Lists!$A$2,IF(G16>=Lists!$B$3,Lists!$A$3,Lists!$A$4))) | J16: =IF(OR(A16="",G16=""),"",A16+IF(G16>=Lists!$B$2,Lists!$C$2,IF(G16>=Lists!$B$3,Lists!$C$3,Lists!$C$4))/24)
H17: =IF(G17="","",IF(G17>=Lists!$B$2,Lists!$A$2,IF(G17>=Lists!$B$3,Lists!$A$3,Lists!$A$4))) | J17: =IF(OR(A17="",G17=""),"",A17+IF(G17>=Lists!$B$2,Lists!$C$2,IF(G17>=Lists!$B$3,Lists!$C$3,Lists!$C$4))/24)
... H501: =IF(G501="","",IF(G501>=Lists!$B$2,Lists!$A$2,IF(G501>=Lists!$B$3,Lists!$A$3,Lists!$A$4))) | J501: =IF(OR(A501="",G501=""),"",A501+IF(G501>=Lists!$B$2,Lists!$C$2,IF(G501>=Lists!$B$3,Lists!$C$3,Lists!$C$4))/24)

Sheet Lists
A1: Band | B1: Min score | C1: Reply within (hours) | E1: Status | G1: Owner (type your team here) | I1: Source
A2: Hot | B2: 70 | C2: 4 | E2: New | G2: Asha | I2: Website form
A3: Warm | B3: 40 | C3: 12 | E3: Contacted | G3: Ravi | I3: Phone call
A4: Standard | B4: 0 | C4: 24 | E4: Qualified | G4: Meera | I4: WhatsApp
E5: Won | G5: Imran | I5: Email
E6: Lost | I6: Walk-in
A7: Change the minimum scores and hours above and every row updates. | I7: Referral
I8: Other

Sheet Summary
A1: Owner | B1: Open (New, Contacted, Qualified) | C1: New and overdue | D1: New, no reply logged
A2: =IF(Lists!G2="","",Lists!G2) | B2: =IF(A2="","",COUNTIFS(Enquiries!$I$2:$I$501,A2,Enquiries!$K$2:$K$501,"New")+COUNTIFS(Enquiries!$I$2:$I$501,A2,Enquiries!$K$2:$K$501,"Contacted")+COUNTIFS(Enquiries!$I$2:$I$501,A2,Enquiries!$K$2:$K$501,"Qualified")) | C2: =IF(A2="","",COUNTIFS(Enquiries!$I$2:$I$501,A2,Enquiries!$K$2:$K$501,"New",Enquiries!$J$2:$J$501,"<"&NOW())) | D2: =IF(A2="","",COUNTIFS(Enquiries!$I$2:$I$501,A2,Enquiries!$K$2:$K$501,"New"))
A3: =IF(Lists!G3="","",Lists!G3) | B3: =IF(A3="","",COUNTIFS(Enquiries!$I$2:$I$501,A3,Enquiries!$K$2:$K$501,"New")+COUNTIFS(Enquiries!$I$2:$I$501,A3,Enquiries!$K$2:$K$501,"Contacted")+COUNTIFS(Enquiries!$I$2:$I$501,A3,Enquiries!$K$2:$K$501,"Qualified")) | C3: =IF(A3="","",COUNTIFS(Enquiries!$I$2:$I$501,A3,Enquiries!$K$2:$K$501,"New",Enquiries!$J$2:$J$501,"<"&NOW())) | D3: =IF(A3="","",COUNTIFS(Enquiries!$I$2:$I$501,A3,Enquiries!$K$2:$K$501,"New"))
A4: =IF(Lists!G4="","",Lists!G4) | B4: =IF(A4="","",COUNTIFS(Enquiries!$I$2:$I$501,A4,Enquiries!$K$2:$K$501,"New")+COUNTIFS(Enquiries!$I$2:$I$501,A4,Enquiries!$K$2:$K$501,"Contacted")+COUNTIFS(Enquiries!$I$2:$I$501,A4,Enquiries!$K$2:$K$501,"Qualified")) | C4: =IF(A4="","",COUNTIFS(Enquiries!$I$2:$I$501,A4,Enquiries!$K$2:$K$501,"New",Enquiries!$J$2:$J$501,"<"&NOW())) | D4: =IF(A4="","",COUNTIFS(Enquiries!$I$2:$I$501,A4,Enquiries!$K$2:$K$501,"New"))
A5: =IF(Lists!G5="","",Lists!G5) | B5: =IF(A5="","",COUNTIFS(Enquiries!$I$2:$I$501,A5,Enquiries!$K$2:$K$501,"New")+COUNTIFS(Enquiries!$I$2:$I$501,A5,Enquiries!$K$2:$K$501,"Contacted")+COUNTIFS(Enquiries!$I$2:$I$501,A5,Enquiries!$K$2:$K$501,"Qualified")) | C5: =IF(A5="","",COUNTIFS(Enquiries!$I$2:$I$501,A5,Enquiries!$K$2:$K$501,"New",Enquiries!$J$2:$J$501,"<"&NOW())) | D5: =IF(A5="","",COUNTIFS(Enquiries!$I$2:$I$501,A5,Enquiries!$K$2:$K$501,"New"))
A6: =IF(Lists!G6="","",Lists!G6) | B6: =IF(A6="","",COUNTIFS(Enquiries!$I$2:$I$501,A6,Enquiries!$K$2:$K$501,"New")+COUNTIFS(Enquiries!$I$2:$I$501,A6,Enquiries!$K$2:$K$501,"Contacted")+COUNTIFS(Enquiries!$I$2:$I$501,A6,Enquiries!$K$2:$K$501,"Qualified")) | C6: =IF(A6="","",COUNTIFS(Enquiries!$I$2:$I$501,A6,Enquiries!$K$2:$K$501,"New",Enquiries!$J$2:$J$501,"<"&NOW())) | D6: =IF(A6="","",COUNTIFS(Enquiries!$I$2:$I$501,A6,Enquiries!$K$2:$K$501,"New"))
A7: =IF(Lists!G7="","",Lists!G7) | B7: =IF(A7="","",COUNTIFS(Enquiries!$I$2:$I$501,A7,Enquiries!$K$2:$K$501,"New")+COUNTIFS(Enquiries!$I$2:$I$501,A7,Enquiries!$K$2:$K$501,"Contacted")+COUNTIFS(Enquiries!$I$2:$I$501,A7,Enquiries!$K$2:$K$501,"Qualified")) | C7: =IF(A7="","",COUNTIFS(Enquiries!$I$2:$I$501,A7,Enquiries!$K$2:$K$501,"New",Enquiries!$J$2:$J$501,"<"&NOW())) | D7: =IF(A7="","",COUNTIFS(Enquiries!$I$2:$I$501,A7,Enquiries!$K$2:$K$501,"New"))
A8: =IF(Lists!G8="","",Lists!G8) | B8: =IF(A8="","",COUNTIFS(Enquiries!$I$2:$I$501,A8,Enquiries!$K$2:$K$501,"New")+COUNTIFS(Enquiries!$I$2:$I$501,A8,Enquiries!$K$2:$K$501,"Contacted")+COUNTIFS(Enquiries!$I$2:$I$501,A8,Enquiries!$K$2:$K$501,"Qualified")) | C8: =IF(A8="","",COUNTIFS(Enquiries!$I$2:$I$501,A8,Enquiries!$K$2:$K$501,"New",Enquiries!$J$2:$J$501,"<"&NOW())) | D8: =IF(A8="","",COUNTIFS(Enquiries!$I$2:$I$501,A8,Enquiries!$K$2:$K$501,"New"))
A9: =IF(Lists!G9="","",Lists!G9) | B9: =IF(A9="","",COUNTIFS(Enquiries!$I$2:$I$501,A9,Enquiries!$K$2:$K$501,"New")+COUNTIFS(Enquiries!$I$2:$I$501,A9,Enquiries!$K$2:$K$501,"Contacted")+COUNTIFS(Enquiries!$I$2:$I$501,A9,Enquiries!$K$2:$K$501,"Qualified")) | C9: =IF(A9="","",COUNTIFS(Enquiries!$I$2:$I$501,A9,Enquiries!$K$2:$K$501,"New",Enquiries!$J$2:$J$501,"<"&NOW())) | D9: =IF(A9="","",COUNTIFS(Enquiries!$I$2:$I$501,A9,Enquiries!$K$2:$K$501,"New"))
A11: No owner | B11: =COUNTIFS(Enquiries!$A$2:$A$501,"<>",Enquiries!$I$2:$I$501,"",Enquiries!$K$2:$K$501,"New") | C11: New enquiries with nobody assigned. Aim for 0.
A13: Total New and overdue | B13: =COUNTIFS(Enquiries!$K$2:$K$501,"New",Enquiries!$J$2:$J$501,"<"&NOW())

Sheet Read me
A1: Enquiry follow-up tracker
A2: From LiftUp (liftup.sh). Free to copy and change.
A4: How it works
A5: 1. Type or paste each enquiry into the Enquiries tab, with the date and time it arrived in column A.
A6: 2. Give it a score from 0 to 100 (column G). The Band and Reply by columns fill in by themselves.
A7: 3. Pick an Owner. A row with no owner turns the Owner cell amber.
A8: 4. When someone replies, change Status from New to Contacted. The red overdue flag clears.
A10: Rules (change them on the Lists tab)
A11: Score 70 or more: reply within 4 hours. Score 40 to 69: 12 hours. Anything lower: 24 hours.
A12: A row turns red when its Status is still New and the Reply by time has passed.
A13: A row with no score has no Reply by time, so the Score cell turns amber until you fill it in.
A15: Notes
... A19: Formulas and rules cover rows 2 to 501.
